<?xml version="1.0" encoding="utf-8"?>
    <TileMap version="1.0.0" tilemapservice="http://tms.osgeo.org/1.0.0">
      <Title>nldas_noah_color.png</Title>
      <Abstract></Abstract>
      <SRS>EPSG:3857</SRS>
      <BoundingBox minx="-124.62550000000000" miny="25.09945053130635" maxx="-66.94281334277130" maxy="49.37550000000000"/>
      <Origin x="-124.62550000000000" y="25.09945053130635"/>
      <TileFormat width="512" height="512" mime-type="image/png" extension="png"/>
      <TileSets profile="mercator">
        <TileSet href="2" units-per-pixel="39135.75847500000236" order="2"/>
        <TileSet href="3" units-per-pixel="19567.87923750000118" order="3"/>
        <TileSet href="4" units-per-pixel="9783.93961875000059" order="4"/>
        <TileSet href="5" units-per-pixel="4891.96980937500030" order="5"/>
        <TileSet href="6" units-per-pixel="2445.98490468750015" order="6"/>
        <TileSet href="7" units-per-pixel="1222.99245234375007" order="7"/>
      </TileSets>
    </TileMap>
    